BEGIN:VCALENDAR
VERSION:2.0
PRODID:icalendar-ruby
CALSCALE:GREGORIAN
METHOD:PUBLISH
BEGIN:VEVENT
DTSTAMP:20260421T083514Z
UID:23-190021@wyomingnaz.com
DTSTART:20260426T220000Z
DTEND:20260427T000000Z
CLASS:PUBLIC
CREATED:20260326T121429
DESCRIPTION:This is a new one\, but sure to be a great time!\nCome for a ni
 ght of worship and waffles and help support our Teen 316 program!\nFor God
  so loved the world and that includes You!
LAST-MODIFIED:20260326T121429
LOCATION:
SUMMARY:Worship and Waffles
URL;VALUE=URI:https://www.wyomingnaz.com/events/worship-and-waffles/2026-04
 -26
ATTACH;FILENAME=Waffles Worship NIght.png;FMTTYPE=image/png:https://dq5pwpg
 1q8ru0.cloudfront.net/2026/03/26/17/14/29/175927e9-a556-4d48-9f8e-f2f1c92e
 8cb0/Waffles%20Worship%20NIght.png
END:VEVENT
END:VCALENDAR
